BEGIN:VCALENDAR
VERSION:2.0
PRODID:-//FATÁJ - ECPv6.15.16//NONSGML v1.0//EN
CALSCALE:GREGORIAN
METHOD:PUBLISH
X-ORIGINAL-URL:https://fataj.hu
X-WR-CALDESC:Események FATÁJ
REFRESH-INTERVAL;VALUE=DURATION:PT1H
X-Robots-Tag:noindex
X-PUBLISHED-TTL:PT1H
BEGIN:VTIMEZONE
TZID:Europe/Paris
BEGIN:DAYLIGHT
TZOFFSETFROM:+0100
TZOFFSETTO:+0200
TZNAME:CEST
DTSTART:20250330T010000
END:DAYLIGHT
BEGIN:STANDARD
TZOFFSETFROM:+0200
TZOFFSETTO:+0100
TZNAME:CET
DTSTART:20251026T010000
END:STANDARD
BEGIN:DAYLIGHT
TZOFFSETFROM:+0100
TZOFFSETTO:+0200
TZNAME:CEST
DTSTART:20260329T010000
END:DAYLIGHT
BEGIN:STANDARD
TZOFFSETFROM:+0200
TZOFFSETTO:+0100
TZNAME:CET
DTSTART:20261025T010000
END:STANDARD
BEGIN:DAYLIGHT
TZOFFSETFROM:+0100
TZOFFSETTO:+0200
TZNAME:CEST
DTSTART:20270328T010000
END:DAYLIGHT
BEGIN:STANDARD
TZOFFSETFROM:+0200
TZOFFSETTO:+0100
TZNAME:CET
DTSTART:20271031T010000
END:STANDARD
END:VTIMEZONE
BEGIN:VEVENT
DTSTART;TZID=Europe/Paris:20260331T080000
DTEND;TZID=Europe/Paris:20260331T170000
DTSTAMP:20260424T060159
CREATED:20260305T135629Z
LAST-MODIFIED:20260305T135629Z
UID:90351-1774944000-1774976400@fataj.hu
SUMMARY:Nagy méretű és különleges helyzetű fák döntése - JESZ VKK
DESCRIPTION:Kezdő:\nElőzetes faállapot felmérés (fakopp vizsgálat)\nÁlló helyzetű fák esetében helyes húzásirány és a dönthetőségi irány megállapítása. A fa döntéséhez szükséges előkészületek elvégzése. EBSZ fadöntésre vonatkozó szabályai.\nMi történik\, ha egyben nem dönthető a fa?\nFadöntés során mind a környezeti értékek és a döntendő értékes faanyag védelmének figyelembevétele. \nHaladó:\nEBSZ fadöntésre vonatkozó szabályai\nLedarabolásos munkamódszerek (alpintechnika\, emelőkosaras tehergépkocsi) bemutatása\, korszerű segédeszközök\, technológiák megismerése\nElőzetes faállapot felmérés (fakopp vizsgálat)
URL:https://fataj.hu/event/nagy-meretu-es-kulonleges-helyzetu-fak-dontese-jesz-vkk/
LOCATION:Budapest
ATTACH;FMTTYPE=image/png:https://fataj.hu/wp-content/uploads/2025/03/JESZVKKpontszerzo.png
END:VEVENT
END:VCALENDAR