BEGIN:VCALENDAR
VERSION:2.0
PRODID:-//FATÁJ - ECPv6.15.16//NONSGML v1.0//EN
CALSCALE:GREGORIAN
METHOD:PUBLISH
X-WR-CALNAME:FATÁJ
X-ORIGINAL-URL:https://fataj.hu
X-WR-CALDESC:Események FATÁJ
REFRESH-INTERVAL;VALUE=DURATION:PT1H
X-Robots-Tag:noindex
X-PUBLISHED-TTL:PT1H
BEGIN:VTIMEZONE
TZID:Europe/Paris
BEGIN:DAYLIGHT
TZOFFSETFROM:+0100
TZOFFSETTO:+0200
TZNAME:CEST
DTSTART:20250330T010000
END:DAYLIGHT
BEGIN:STANDARD
TZOFFSETFROM:+0200
TZOFFSETTO:+0100
TZNAME:CET
DTSTART:20251026T010000
END:STANDARD
BEGIN:DAYLIGHT
TZOFFSETFROM:+0100
TZOFFSETTO:+0200
TZNAME:CEST
DTSTART:20260329T010000
END:DAYLIGHT
BEGIN:STANDARD
TZOFFSETFROM:+0200
TZOFFSETTO:+0100
TZNAME:CET
DTSTART:20261025T010000
END:STANDARD
BEGIN:DAYLIGHT
TZOFFSETFROM:+0100
TZOFFSETTO:+0200
TZNAME:CEST
DTSTART:20270328T010000
END:DAYLIGHT
BEGIN:STANDARD
TZOFFSETFROM:+0200
TZOFFSETTO:+0100
TZNAME:CET
DTSTART:20271031T010000
END:STANDARD
END:VTIMEZONE
BEGIN:VEVENT
DTSTART;TZID=Europe/Paris:20260423T080000
DTEND;TZID=Europe/Paris:20260423T170000
DTSTAMP:20260423T112142
CREATED:20260218T075703Z
LAST-MODIFIED:20260218T075703Z
UID:89582-1776931200-1776963600@fataj.hu
SUMMARY:Az Erdészeti Szakmai Rendszer (ESZR) és alrendszerei - JESZ VKK
DESCRIPTION:Az erdészeti szoftverekben alkalmazott korszerű folyamat-támogató rendszerek hozzájárulnak a pontosabb és hatékonyabb erdőgazdálkodáshoz: segítenek az adatok jobb kezelésében\, a döntések alaposabb elemzésében és a térbeli tényezők figyelembevételében. Ezenkívül lehetőséget biztosítanak a környezeti és gazdasági hatások jobb megértésére\, amely hozzájárul az erdők tartamos\, illetve a fenntarthatóbb kezeléséhez.\nAz Erdészeti Szakmai Rendszer (ESZR) a hazai erdőgazdálkodók számára fejlesztett web-es felület\, amely teljes körű\, térinformatikai alapú munkafolyamat-támogató szolgáltatást nyújt. Két alprogramja: TERI – térképi tájékozódás\, leíró adatok és objektum mérés és ETA: terepi készletezés térinformatikai adatrögzítéssel. Funkciói: az erdőállomány nyilvántartás és térképezés\, az erdők összetételének\, fafajainak\, korosztályi eloszlásának és térbeli elhelyezkedésének felmérése\, fakitermelési műveletek tervezése és fakészletek kezelése\, vadgazdálkodási feladatok tervezése (vadállománybecslés\, élőhelyek azonosítása és védelme) vagy éppen az erdőtüzek elleni védelem.\nA bemutató üzemi program kezdő és haladó szintű modulban valósul meg.\nKezdő modul – elmélet és módszertan: Elsőként megismerkedünk az ESZR felépítésével\, használatának jogi vonatkozásaival. A Rendszer használatához elengedhetetlen alapvető erdészeti szakmai ismeretek elsajátítása. Ilyenek például az Erdészeti Nyilvántartási Térkép használatának\, a térképjeleknek\, az erdő szerkezeti jellemzőivel kapcsolatos összefüggéseknek\, valamint az erdészeti kódjegyzéknek az ismerete. Ezt követően kerülnek bemutatásra a legfontosabb funkciók: 1. Erdészeti Terepi Applikáció (ETA) használata – Digitális adatrögzítés és bizonylatkészítés\, műveleti lap beillesztése\, köbözés\, származás kezelése. 2. Terepi Erdészeti Információs App (TERI) használata – Fatömegbecslés\, terepi felmérések\, erdőgazdálkodási információk\, fotók és megjegyzések (elméleti alapok).\nHaladó modul – gyakorlat: Fotoanalitikus fatömegbecslés\, erdőtervező modul\, valamint az örökerdő modul alkalmazása. Majd a szoftverek\, applikációk gyakorlati terepi használata az EGERERDŐ ZRT Mátrafüredi Erdészetének üzemi területén. A haladó modul egyéb többfunkciós erdészeti digitális eszközök bemutatásával zárul.
URL:https://fataj.hu/event/az-erdeszeti-szakmai-rendszer-eszr-es-alrendszerei-jesz-vkk/
LOCATION:Mátrafüred
CATEGORIES:tanfolyam,tematikus nap
ATTACH;FMTTYPE=image/png:https://fataj.hu/wp-content/uploads/2025/03/JESZVKKpontszerzo.png
END:VEVENT
BEGIN:VEVENT
DTSTART;TZID=Europe/Paris:20260423T090000
DTEND;TZID=Europe/Paris:20260423T160000
DTSTAMP:20260423T112142
CREATED:20260420T071034Z
LAST-MODIFIED:20260420T071034Z
UID:92607-1776934800-1776960000@fataj.hu
SUMMARY:Paliszander Szakmai Nap
DESCRIPTION:SZAKMAI NAP – CNC KORPUSZ ALKATRÉSZ GYÁRTÁS\n\n\n\n\n\n2026.04.23 (Csütörtök)\nJELENTKEZZEN ITT\n \nJELENTKEZZEN ITT\n  \n\n\n\n\n\n\n\n\n\n\n\n\n\n\n Akciós telepített gépek \n Akciós kézigépek \n Akciós szerszámok \n Akciós kiegészítő termékek
URL:https://fataj.hu/event/paliszander-szakmai-nap/
LOCATION:Budapest
CATEGORIES:kiállítás,tematikus nap
ATTACH;FMTTYPE=image/png:https://fataj.hu/wp-content/uploads/2026/03/paliszander-SzakmainapCNC900X900.png
END:VEVENT
BEGIN:VEVENT
DTSTART;TZID=Europe/Paris:20260423T183000
DTEND;TZID=Europe/Paris:20260423T200000
DTSTAMP:20260423T112142
CREATED:20260325T094419Z
LAST-MODIFIED:20260325T094419Z
UID:91385-1776969000-1776974400@fataj.hu
SUMMARY:Az emberiség utolsó 75 éve
DESCRIPTION:Milyen lesz a világ\, amelyben a gyerekeink felnőnek? Hogyan néz majd ki egy hétköznapi bevásárlás tíz vagy húsz év múlva? Tele lesznek még a polcok kedvenc ételeinkkel és italainkkal? És hol tölti majd a nyaralását egy család a jövőben? \nDr. Buda Lorina közgazdász\, fenntarthatósági szakértő és egyetemi tanár előadásán válaszokat ad ezekre a kérdésekre. Friss kutatási eredményekre és saját világjáró tapasztalataira támaszkodva mutatja meg\, hogyan alakítják át a globális folyamatok a mindennapjainkat – és hogyan válhatunk mi magunk is a változás nyerteseivé. \nEgy izgalmas világkörüli utazás – itt\, Dunaharasztiban \nAz este egyszerre lesz tudományos és személyes\, mert Lorina nemcsak a legfrissebb kutatási eredményeket hozza\, hanem élményeit is\, amelyeket több mint harminc országban szerzett. Az előadás igazi világkörüli utazás\, amely Patagóniától a Namib-sivatagon át Finnországig kalauzolja a közönséget. Nem elvont jóslatok\, hanem elképesztően aktuális történetek és megoldások kerülnek a színpadra – közérthetően\, inspirálóan\, első kézből. \nHiteles előadó\, nemzetközi tapasztalattal. \nDr. Buda Lorina több mint egy évtizede kutatja és tanítja a fenntarthatóság és a globális gazdasági folyamatok összefüggéseit. Tanulmányait a Budapesti Corvinus Egyetemen és a Cambridge Institute for Sustainability Leadership-en végezte. Kutatási céllal bejárta a világot\, hogy testközelből lássa\, hogyan reagálnak a közösségek a változó körülményekre. \nElőadóként szerepelt a Forbes Women Power Summit\, TEDx és több nemzetközi konferencia programján. 2025-től a Climate Reality Project magyarországi vezetőjeként dolgozik azon\, hogy erősödjön a klímatudatosság és közösségi cselekvés Közép-Európában.
URL:https://fataj.hu/event/az-emberiseg-utolso-75-eve/
LOCATION:Dunaharaszti
ATTACH;FMTTYPE=image/jpeg:https://fataj.hu/wp-content/uploads/2026/03/utolso75.jpg
END:VEVENT
END:VCALENDAR