BEGIN:VCALENDAR
VERSION:2.0
PRODID:-//FATÁJ - ECPv6.15.16//NONSGML v1.0//EN
CALSCALE:GREGORIAN
METHOD:PUBLISH
X-ORIGINAL-URL:https://fataj.hu
X-WR-CALDESC:Események FATÁJ
REFRESH-INTERVAL;VALUE=DURATION:PT1H
X-Robots-Tag:noindex
X-PUBLISHED-TTL:PT1H
BEGIN:VTIMEZONE
TZID:Europe/Paris
BEGIN:DAYLIGHT
TZOFFSETFROM:+0100
TZOFFSETTO:+0200
TZNAME:CEST
DTSTART:20250330T010000
END:DAYLIGHT
BEGIN:STANDARD
TZOFFSETFROM:+0200
TZOFFSETTO:+0100
TZNAME:CET
DTSTART:20251026T010000
END:STANDARD
BEGIN:DAYLIGHT
TZOFFSETFROM:+0100
TZOFFSETTO:+0200
TZNAME:CEST
DTSTART:20260329T010000
END:DAYLIGHT
BEGIN:STANDARD
TZOFFSETFROM:+0200
TZOFFSETTO:+0100
TZNAME:CET
DTSTART:20261025T010000
END:STANDARD
BEGIN:DAYLIGHT
TZOFFSETFROM:+0100
TZOFFSETTO:+0200
TZNAME:CEST
DTSTART:20270328T010000
END:DAYLIGHT
BEGIN:STANDARD
TZOFFSETFROM:+0200
TZOFFSETTO:+0100
TZNAME:CET
DTSTART:20271031T010000
END:STANDARD
END:VTIMEZONE
BEGIN:VEVENT
DTSTART;VALUE=DATE:20260428
DTEND;VALUE=DATE:20260430
DTSTAMP:20260424T060259
CREATED:20260420T073447Z
LAST-MODIFIED:20260420T073447Z
UID:92616-1777334400-1777507199@fataj.hu
SUMMARY:TERRI 3 gépbemutató - Bogács
DESCRIPTION:TERRI 3 gépbemutató – Április 28–29.-én Bogácson az EGERERDŐ Zrt. területén 🚜\n📅 Időpont: 2026. április 28–29.\n📍 Helyszín: Bogács\, Jács-völgy (EGERERDŐ Zrt. területén)\nA bemutatón testközelből is megismerheti az új szériás TERRI harvestereket és forwardereket.\n👉 A részvétel ingyenes\, a részletekkel kapcsolatban keressen minket!\n📞 +36 (70) 366-6678
URL:https://fataj.hu/event/terri-3-gepbemutato-bogacs/
LOCATION:Bogács
CATEGORIES:gépbemutató
ATTACH;FMTTYPE=image/jpeg:https://fataj.hu/wp-content/uploads/2022/08/terri-bemutato-04.jpg
END:VEVENT
BEGIN:VEVENT
DTSTART;TZID=Europe/Paris:20260429T080000
DTEND;TZID=Europe/Paris:20260429T160000
DTSTAMP:20260424T060259
CREATED:20260317T183845Z
LAST-MODIFIED:20260317T183845Z
UID:90958-1777449600-1777478400@fataj.hu
SUMMARY:Legjobb gyakorlatok az erdők vízháztartásának javításában\, természetközeli megoldások - JESZ VKK
DESCRIPTION:A program betekintést enged az erdő komplex vízforgalmának rendszerébe. Bemutatásra kerülnek a csapadékviszonyok és a párolgási képességek vizsgálatának lehetőségei\, emellett a többletvízformák jelentősége az erdőtenyészet szempontjából. A program egyaránt foglalkozik a vízforgalom erdőre gyakorolt hatásaival\, mint az erdő szerepére a vízforgalomban a lefolyásra gyakorolt hatására\, közvetve a villámárvizekre gyakorolt lokális\, valamint térségi hatásra. \nKezdő modul témakörei: \n• Az erdő komplex vízforgalmi rendszere\n• Az erdőterület vízháztartása\,\n• A csapadékviszonyok és az erdő\,\n• Az intercepció jelentősége\,\n• Beszivárgás és talajnedvesség\,\n• Transzspiráció\, Evapotranszspiráció\,\n• Az erdő és a talajvíz\,\n• Felszíni és felszín alatti lefolyás\,\n• Villámárhullámok\,\n• Hidrológiai kategorizálás\,\n• Vízgazdálkodási fokok\,\n• Hullámtéri hidrológiai kategóriák \nHaladó modul témakörei: \n• Erdészeti vízgazdálkodás gyakorlati szemszögből\,\n• Források és forrásfoglalások\,\n• Vízpótlási\, vízvisszatartási esettanulmányok\,\n• Közjóléti tavak létesítése\,\n• Vadgazdálkodási vízigények biztosítása\,\n• Erózió és hordalékvisszatartás erdőterületen\,\n• Villámárvízi károk mérséklése\,\n• Hullámtéri erdők és árvízvédelem
URL:https://fataj.hu/event/legjobb-gyakorlatok-az-erdok-vizhaztartasanak-javitasaban-termeszetkozeli-megoldasok-jesz-vkk/
LOCATION:Sopron
ATTACH;FMTTYPE=image/png:https://fataj.hu/wp-content/uploads/2025/03/JESZVKKpontszerzo.png
END:VEVENT
END:VCALENDAR