BEGIN:VCALENDAR
VERSION:2.0
PRODID:-//FATÁJ - ECPv6.15.16//NONSGML v1.0//EN
CALSCALE:GREGORIAN
METHOD:PUBLISH
X-ORIGINAL-URL:https://fataj.hu
X-WR-CALDESC:Események FATÁJ
REFRESH-INTERVAL;VALUE=DURATION:PT1H
X-Robots-Tag:noindex
X-PUBLISHED-TTL:PT1H
BEGIN:VTIMEZONE
TZID:Europe/Paris
BEGIN:DAYLIGHT
TZOFFSETFROM:+0100
TZOFFSETTO:+0200
TZNAME:CEST
DTSTART:20250330T010000
END:DAYLIGHT
BEGIN:STANDARD
TZOFFSETFROM:+0200
TZOFFSETTO:+0100
TZNAME:CET
DTSTART:20251026T010000
END:STANDARD
BEGIN:DAYLIGHT
TZOFFSETFROM:+0100
TZOFFSETTO:+0200
TZNAME:CEST
DTSTART:20260329T010000
END:DAYLIGHT
BEGIN:STANDARD
TZOFFSETFROM:+0200
TZOFFSETTO:+0100
TZNAME:CET
DTSTART:20261025T010000
END:STANDARD
BEGIN:DAYLIGHT
TZOFFSETFROM:+0100
TZOFFSETTO:+0200
TZNAME:CEST
DTSTART:20270328T010000
END:DAYLIGHT
BEGIN:STANDARD
TZOFFSETFROM:+0200
TZOFFSETTO:+0100
TZNAME:CET
DTSTART:20271031T010000
END:STANDARD
END:VTIMEZONE
BEGIN:VEVENT
DTSTART;TZID=Europe/Paris:20260508T080000
DTEND;TZID=Europe/Paris:20260508T170000
DTSTAMP:20260424T060208
CREATED:20260305T133317Z
LAST-MODIFIED:20260305T133317Z
UID:90343-1778227200-1778259600@fataj.hu
SUMMARY:Az EUTR/EKÁER megfelelő használata - JESZ VKK
DESCRIPTION:Egész napos\, térítésmentes erdőgazdálkodói bemutató üzemi program az EUTR/EKÁER megfelelő használatáról.\nA faanyagokkal való kereskedés és a közúti áruszállítás nyomonkövetése kötelező\, előírásokhoz és egységes adminisztráció vezetéséhez kötött. Fa és fatermék esetében az EUTR és az EKÁER ismerete nélkülözhetetlen.EUTR: A fára és fatermékekre vonatkozó uniós rendelet (995/2010/EU\, röviden EUTR) célja\, hogy az EU-n belül ne kerülhessen kereskedelmi forgalomba illegális kitermelésből származó fa és abból készült termék. Ezért a faanyag kereskedelmi lánchoz tartozó tevékenységet végzők a tevékenység megkezdése előtt kötelesek a jogszabályban meghatározott adataikat nyilvántartásba vétel céljából bejelenteni (regisztrálni).EKÁER (Elektronikus Közúti Áruforgalom Ellenőrző Rendszer): Ha valaki Magyarországról az Európai Unióba vagy az EU más tagállamából Magyarországra gépjárművel\, közúton\, bejelentésköteles terméket fuvaroz\, értékesítési\, beszerzési vagy más céllal mozgat\, vagy belföldön nem közvetlen végfelhasználónak első\, áfaköteles termékértékesítést a fenti feltételek szerint végez akkor azt be kell jelentenie az Elektronikus Közútiáruforgalom-ellenőrző Rendszerben (EKÁER). A bejelentést – a fuvar irányától függően – a címzett vagy a feladó teszi meg\, ez alapján a fuvar kap egy 15 napig érvényes EKÁER-számot a Nemzeti Adó- és Vámhivataltól (NAV).\nA kezdő modulban sorra kerül: a jogi környezet áttekintése; bejelentkezés az EUTR hatósági nyilvántartási rendszerébe; bejelentésre kötelezett tevékenységek; tevékenységi körbe sorolás; a műveleti lap és szállítójegy és tűzifa vásárlói tájékoztató; A faanyag nyomon követéséhez szükséges nyilvántartások; Erdei faválasztékok készletének bejelentése; jó példák.\nA haladó modulban: EUTR használata: műveleti lap és szállítójegy felhasználásának bejelentése. Erdei faválasztékok készletének bejelentése\, ügyfélregisztráció. Felhasználói kézikönyv ismertetése\, a helyes dokumentáció elkészítése\, a gyakorlatban előforduló leggyakoribb hibák.
URL:https://fataj.hu/event/az-eutr-ekaer-megfelelo-hasznalata-jesz-vkk-2/
LOCATION:Ásotthalom
ATTACH;FMTTYPE=image/png:https://fataj.hu/wp-content/uploads/2025/03/JESZVKKpontszerzo.png
END:VEVENT
BEGIN:VEVENT
DTSTART;TZID=Europe/Paris:20260508T080000
DTEND;TZID=Europe/Paris:20260508T170000
DTSTAMP:20260424T060208
CREATED:20260305T140132Z
LAST-MODIFIED:20260305T140132Z
UID:90358-1778227200-1778259600@fataj.hu
SUMMARY:Az EUTR és az EKÁER megfelelő használata - JESZ VKK
DESCRIPTION:A faanyagokkal való kereskedés és a közúti áruszállítás nyomonkövetése kötelező\, előírásokhoz és egységes adminisztráció vezetéséhez kötött. Fa és fatermék esetében az EUTR és az EKÁER ismerete nélkülözhetetlen. \nEUTR: A fára és fatermékekre vonatkozó uniós rendelet (995/2010/EU\, röviden EUTR) célja\, hogy az EU-n belül ne kerülhessen kereskedelmi forgalomba illegális kitermelésből származó fa és abból készült termék. Ezért a faanyag kereskedelmi lánchoz tartozó tevékenységet végzők a tevékenység megkezdése előtt kötelesek a jogszabályban meghatározott adataikat nyilvántartásba vétel céljából bejelenteni (regisztrálni). \nEKÁER (Elektronikus Közúti Áruforgalom Ellenőrző Rendszer): Ha valaki Magyarországról az Európai Unióba vagy az EU más tagállamából Magyarországra gépjárművel\, közúton\, bejelentésköteles terméket fuvaroz\, értékesítési\, beszerzési vagy más céllal mozgat\, vagy belföldön nem közvetlen végfelhasználónak első\, áfaköteles termékértékesítést a fenti feltételek szerint végez akkor azt be kell jelentenie az Elektronikus Közútiáruforgalom-ellenőrző Rendszerben (EKÁER). A bejelentést – a fuvar irányától függően – a címzett vagy a feladó teszi meg\, ez alapján a fuvar kap egy 15 napig érvényes EKÁER-számot a Nemzeti Adó- és Vámhivataltól (NAV). \nA kezdő modulban sorra kerül: a jogi környezet áttekintése; bejelentkezés az EUTR hatósági nyilvántartási rendszerébe; bejelentésre kötelezett tevékenységek; tevékenységi körbe sorolás; a műveleti lap és szállítójegy és tűzifa vásárlói tájékoztató; A faanyag nyomon követéséhez szükséges nyilvántartások; Erdei faválasztékok készletének bejelentése; jó példák. \nA haladó modulban: EUTR használata: műveleti lap és szállítójegy felhasználásának bejelentése. Erdei faválasztékok készletének bejelentése\, ügyfélregisztráció. Felhasználói kézikönyv ismertetése\, a helyes dokumentáció elkészítése\, a gyakorlatban előforduló leggyakoribb hibák.
URL:https://fataj.hu/event/az-eutr-es-az-ekaer-megfelelo-hasznalata-jesz-vkk-2/
LOCATION:Valkó
ATTACH;FMTTYPE=image/png:https://fataj.hu/wp-content/uploads/2025/03/JESZVKKpontszerzo.png
END:VEVENT
BEGIN:VEVENT
DTSTART;TZID=Europe/Paris:20260513T080000
DTEND;TZID=Europe/Paris:20260513T170000
DTSTAMP:20260424T060208
CREATED:20260218T080837Z
LAST-MODIFIED:20260218T080837Z
UID:89588-1778659200-1778691600@fataj.hu
SUMMARY:Drónok használata erdőállapot felméréséhez - JESZ VKK
DESCRIPTION:Egész napos\, térítésmentes erdőgazdálkodói bemutató üzemi program arról\, hogyan alkalmazhatóak drónok az erdőállapot felméréséhez.\nA program bemutatja azokat a korszerű\, erdőfelvételezésben is alkalmazható és egyre inkább elterjedt adatfelvételezési lehetőségeket\, amelyek a hagyományos erdőállomány-mérési módszerek mellett egyre nagyobb jelentőséggel bírnak a korszerű erdőgazdálkodásban. Az állománybecslés\, az erdőállomány egészségi állapota\, az erdőnevelési beavatkozások szakszerűségének vizsgálata csak három példa a dróntechnológia gyakorlati alkalmazására. A drónok képesek gyorsan és hatékonyan felmérni nagy területeket\, adatokat gyűjtve az erdők állapotáról. Ezzel időt és munkaerőt takaríthatunk meg\, miközben pontosabb képet kapunk az erdők egészségi állapotáról. Kártevők és betegségek felderítése esetén drónok segítségével korai szakaszban észlelhetők a kártevők és betegségek jelei\, így gyorsan beavatkozhatunk\, minimalizálva a károkat.\nA program résztvevője az alábbi ismeretekkel\, készségek és kompetenciákkal gazdagodhat:eligazodik a vonatkozó jogszabályok között:• megfigyeli a drónok általános felépítését\, azok üzemeltetését• erdőállományt azonosít\, ismeri a GPS jelentőségét• alkalmazza a légi eszköz segítségével való adatgyűjtést\,• adatfeldolgozást végez\, azokból erdőtervezési adatokat származtat.\nA kezdő modulban a résztvevő elsajátíthatja azt az alaptudást\, amelynek segítségével alkalmazni tudja a dróntechnológiát erdőállapot felméréséhez:• a drón repülésére vonatkozó hazai és nemzetközi jogszabályi háttere\,• a drónpilóta-képzés feltételrendszere\,• az erdőállomány-mérés szükséges és elégséges adatai\, azok forrása\, az adatok felhasználhatósága\,• a légi adatnyerés elméleti alapjai\,• az adatnyerés hardver- és szoftver-háttere\, és az alkalmazott szoftverek.\nA haladó modul fókusztémái: a drón repülési magasságának beállítása\, repülés végrehajtása\, adatnyerés és mentés végrehajtása\, a kiválasztott erdőállomány felvétele\, a szükséges szűrők és beállítások alkalmazása\, az adatok mentése\, az adatok feldolgozása szoftverrel.\nLevezető szakember: Antal Gábor\, Halász Gábor
URL:https://fataj.hu/event/dronok-hasznalata-erdoallapot-felmeresehez-jesz-vkk/
LOCATION:Mátrafüred
CATEGORIES:tanfolyam,tematikus nap
ATTACH;FMTTYPE=image/png:https://fataj.hu/wp-content/uploads/2025/03/JESZVKKpontszerzo.png
END:VEVENT
BEGIN:VEVENT
DTSTART;TZID=Europe/Paris:20260513T080000
DTEND;TZID=Europe/Paris:20260513T170000
DTSTAMP:20260424T060208
CREATED:20260305T140418Z
LAST-MODIFIED:20260305T140418Z
UID:90364-1778659200-1778691600@fataj.hu
SUMMARY:Erdészeti gépek és berendezések karbantartása\, hibaelhárítása - JESZ VKK
DESCRIPTION:Kezdő:\nAz erdőgazdálkodásban alkalmazott kisgépek (motorfűrészek\, tisztítófűrészek) szerkezetének felépítése. Főbb szerkezeti elemeinek ismertetése\, s azok napi és időszakos karbantartása.\nTuskómarók\, ágdarálók szerkezeti felépítése\, üzemeltetése. Napi és időszakos karbantartása.\nErőgépekre szerelhető erdészeti munkagépek\, csörlő\, szárzúzó\, kérgező adapterek szerkezetének bemutatása\, működésének ismertetése. Napi és időszakos karbantartása. \nHaladó:\nAnyagismeret; fémek\, műanyagok\, üzemanyag\, kenőanyagok összetételének ismertetése\nÖnjáró erdészeti gépek\, LKT\, KCR\, stb. szerkezeti felépítése\, üzemeltetése napi és időszakos karbantartása.\nGépek\, kenőanyagok\, üzemanyagok kezelése\, tárolása\, felhasználása és elhasználódás utáni kezelése\, munkavédelmi szempontok figyelembevétele
URL:https://fataj.hu/event/erdeszeti-gepek-es-berendezesek-karbantartasa-hibaelharitasa-jesz-vkk/
LOCATION:Piliscsaba
ATTACH;FMTTYPE=image/png:https://fataj.hu/wp-content/uploads/2025/03/JESZVKKpontszerzo.png
END:VEVENT
BEGIN:VEVENT
DTSTART;TZID=Europe/Paris:20260513T100000
DTEND;TZID=Europe/Paris:20260513T150000
DTSTAMP:20260424T060208
CREATED:20260414T112653Z
LAST-MODIFIED:20260414T112653Z
UID:92341-1778666400-1778684400@fataj.hu
SUMMARY:Kihívások és megoldások változó környezetben - Békéscsaba
DESCRIPTION:A Magyar Bútor- és Faipari Szövetség (Fabunio) sok szeretettel hívja az érdeklődőket a Kihívások és megoldások változó környezetben című rendezvénysorozatának második rendezvényére\, Békéscsabára.
URL:https://fataj.hu/event/kihivasok-es-megoldasok-valtozo-kornyezetben-bekescsaba/
LOCATION:Békéscsaba
ATTACH;FMTTYPE=image/jpeg:https://fataj.hu/wp-content/uploads/2026/02/fabunio-0319.jpg
END:VEVENT
BEGIN:VEVENT
DTSTART;TZID=Europe/Paris:20260515T080000
DTEND;TZID=Europe/Paris:20260515T170000
DTSTAMP:20260424T060208
CREATED:20260218T081010Z
LAST-MODIFIED:20260218T081010Z
UID:89590-1778832000-1778864400@fataj.hu
SUMMARY:Forwarder és harveszter oktatása szimulátoron - JESZ VKK
DESCRIPTION:Egész napos\, térítésmentes erdőgazdálkodói bemutató üzemi program Somogyzsitfán.\nKihordótraktorok csoportosításuk és felépítésük\, darukezelés alapjai. Forwarderes rakodási technikák\, kihordókkal való közlekedés erdőben. A harveszter kezelője önállóan végzi el a fakitermelés munkaműveleteit\, közben kialakítja a fakitermelés térbeli rendjét\, biztosítja a közelítést végző gépkezelő hatékony munkáját is. Állománynevelési és fakitermelési ismeretekkel rendelkezik. Betartja a munkavédelmi\, környezetvédelmi és tűzbiztonsági előírásokat. Elkötelezett a természetvédelmi szabályok betartásában. Figyelembe veszi a munkaszervezetben dolgozó munkatársak elvárásait\, saját munkájával elősegíti társai eredményes munkavégzését.\nLevezető szakember: Varga Zsolt János\, Matakovics Imre
URL:https://fataj.hu/event/forwarder-es-harveszter-oktatasa-szimulatoron-jesz-vkk-2/
LOCATION:Somogyzsitfa
CATEGORIES:tanfolyam,tematikus nap
ATTACH;FMTTYPE=image/png:https://fataj.hu/wp-content/uploads/2025/03/JESZVKKpontszerzo.png
END:VEVENT
BEGIN:VEVENT
DTSTART;TZID=Europe/Paris:20260515T080000
DTEND;TZID=Europe/Paris:20260515T170000
DTSTAMP:20260424T060208
CREATED:20260305T133417Z
LAST-MODIFIED:20260305T133417Z
UID:90345-1778832000-1778864400@fataj.hu
SUMMARY:Méretes fák irányított döntése a gyakorlatban - JESZ VKK
DESCRIPTION:Egész napos\, térítésmentes erdőgazdálkodói bemutató üzemi program Ásotthalmon a méretes fák irányított döntéséről.\nA program célja az Erdészeti Biztonsági Szabályzatban foglaltak megismerése\, megismertetése és betartása. Az irányított döntés jellemzőinek bemutatása\, kishúzású és nagyhúzású fák döntése\, különleges alakú fák döntése. Nagyméretű fák precíz\, pontos döntése\, úgy\, hogy a fa értéke ne károsodjon\, és a döntést végző biztonságosan tudja elvégezni az irányított fadöntést.\nKét modulban kerül megtartásra: kezdő (elmélet és tanpálya) és haladó (gyakorlatok az erdőben).\nKezdő program:– elméleti ismeretek\,– tanpályás gyakorlás\nHaladó program:– kishúzású\, nagyhúzású és különleges alakú fák irányított döntése erdei körülmények között
URL:https://fataj.hu/event/meretes-fak-iranyitott-dontese-a-gyakorlatban-jesz-vkk/
LOCATION:Ásotthalom
ATTACH;FMTTYPE=image/png:https://fataj.hu/wp-content/uploads/2025/03/JESZVKKpontszerzo.png
END:VEVENT
BEGIN:VEVENT
DTSTART;TZID=Europe/Paris:20260520T080000
DTEND;TZID=Europe/Paris:20260520T170000
DTSTAMP:20260424T060208
CREATED:20260218T081139Z
LAST-MODIFIED:20260218T081139Z
UID:89592-1779264000-1779296400@fataj.hu
SUMMARY:Termőhelyfeltárás/ termőhelyismeret - JESZ VKK
DESCRIPTION:Egész napos\, térítésmentes erdőgazdálkodói bemutató üzemi program a termőhelyfeltárás\, termőhelyismeret témakörében.\nErdőtelepítések\, ipari célú fás szárú ültetvények telepítések tervezésének és erdőfelújítások tervezésének egyik sarkalatos pontja az adott terület ökológiai adottságait és feltételeit leginkább hasznosítani képes\, így telepítésre ajánlható fafajok\, fajták kiválasztása.\nA program két modulból áll.\nA délelőtti\, kezdő modulban részletesen a résztvevők megismerkedhetnek az elméleti és alapvető szakmai tudnivalókkal\, így a fogalmi meghatározásokkal\, a termőhelyfeltárás szükségességével és jogi szabályozásával\, valamint a mintavételi lehetőségekkel. Majd a terepi munka során egy adott talajszelvény morfológiai vizsgálatát végzik el\, és talajmintát vesznek a délutáni laborvizsgálatokhoz.\nA délutáni\, haladó modulban laborkörülmények között a talaj kémhatásaival\, mechanikai összetételének meghatározásával és az eredmények értékelésével foglalkoznak.\nLevezető szakember: Jánosfalvi Zoltán
URL:https://fataj.hu/event/termohelyfeltaras-termohelyismeret-jesz-vkk/
LOCATION:Mátrafüred
CATEGORIES:tanfolyam,tematikus nap
ATTACH;FMTTYPE=image/png:https://fataj.hu/wp-content/uploads/2025/03/JESZVKKpontszerzo.png
END:VEVENT
BEGIN:VEVENT
DTSTART;TZID=Europe/Paris:20260522T080000
DTEND;TZID=Europe/Paris:20260522T170000
DTSTAMP:20260424T060208
CREATED:20260305T133520Z
LAST-MODIFIED:20260305T133520Z
UID:90347-1779436800-1779469200@fataj.hu
SUMMARY:MobileForester használata a gyakorlatban - JESZ VKK
DESCRIPTION:Egész napos\, térítésmentes erdőgazdálkodói bemutató üzemi program a MobielForester használatáról.\nA program részletesen megismerteti a résztvevőkkel a MobileForester új digitális eszközt\, amely az erdészek rutinjára építve a mérések jól megszokott menetéhez kínál egy korszerű lehetőséget. Az eszköz egyes funkciói a kijelzőn megjelenő felületein jól átláthatók\, interaktívak így biztosítják\, hogy semmilyen fontos információ ne maradjon ki és ne kerülje el a felmérő figyelmét.\n\nKezdő program:– elméleti ismeretek\,– az eszköz bemutatása\nHaladó program:– a MobileForester gyakorlati alkalmazása az iskola parkjában és a tanulmányi erdőben.– helymeghatározás– készletfelvételek
URL:https://fataj.hu/event/mobileforester-hasznalata-a-gyakorlatban-jesz-vkk/
LOCATION:Ásotthalom
ATTACH;FMTTYPE=image/png:https://fataj.hu/wp-content/uploads/2025/03/JESZVKKpontszerzo.png
END:VEVENT
BEGIN:VEVENT
DTSTART;TZID=Europe/Paris:20260522T080000
DTEND;TZID=Europe/Paris:20260524T170000
DTSTAMP:20260424T060208
CREATED:20251219T180223Z
LAST-MODIFIED:20251219T180223Z
UID:87500-1779436800-1779642000@fataj.hu
SUMMARY:MFE Magyar Famászó Bajnokság
DESCRIPTION:MEGVAN A DÁTUM ÉS A HELYSZÍN!\n\n\n 2026 05. 22–24.\n Tata\n\n\nA 2026-os MFE Magyar Famászó Bajnokság (HTTC) időpontja és helyszíne hivatalos.\n\n\n Már most készülünk rá\, hogy újra együtt lehessünk\,\n versenyezzünk és találkozzunk\,\n és hogy ismét egy helyen legyen a hazai famászó közösség.\n\n\nRészletek hamarosan!
URL:https://fataj.hu/event/mfe-magyar-famaszo-bajnoksag/
LOCATION:Tata
CATEGORIES:tematikus nap,verseny
ATTACH;FMTTYPE=image/jpeg:https://fataj.hu/wp-content/uploads/2024/08/mfe-famaszo.jpg
END:VEVENT
BEGIN:VEVENT
DTSTART;TZID=Europe/Paris:20260522T170000
DTEND;TZID=Europe/Paris:20260522T193000
DTSTAMP:20260424T060208
CREATED:20260414T112528Z
LAST-MODIFIED:20260414T112528Z
UID:92337-1779469200-1779478200@fataj.hu
SUMMARY:Az ácsolt ládák titkai
DESCRIPTION:Szeretettel várnak minden érdeklődőt Gyenes Tamás mester előadására és mesterségbemutatójára!
URL:https://fataj.hu/event/az-acsolt-ladak-titkai/
LOCATION:Budapest
ATTACH;FMTTYPE=image/jpeg:https://fataj.hu/wp-content/uploads/2026/04/acsolt.jpg
END:VEVENT
BEGIN:VEVENT
DTSTART;TZID=Europe/Paris:20260523T100000
DTEND;TZID=Europe/Paris:20260523T180000
DTSTAMP:20260424T060208
CREATED:20260316T113800Z
LAST-MODIFIED:20260316T113800Z
UID:90848-1779530400-1779559200@fataj.hu
SUMMARY:Minden ami vad
DESCRIPTION:Erdész – vadász családi nap \nFőzőverseny – Színes gyermeknapi programok – Bajnokok Bajnoka versenyRészletes programok hamarosan
URL:https://fataj.hu/event/minden-ami-vad/
LOCATION:Ásotthalom
ATTACH;FMTTYPE=image/jpeg:https://fataj.hu/wp-content/uploads/2026/03/erdesz-csn.jpg
END:VEVENT
BEGIN:VEVENT
DTSTART;TZID=Europe/Paris:20260528T080000
DTEND;TZID=Europe/Paris:20260531T170000
DTSTAMP:20260424T060208
CREATED:20260129T091313Z
LAST-MODIFIED:20260129T091313Z
UID:88569-1779955200-1780246800@fataj.hu
SUMMARY:Zöld Civil OT 2026
DESCRIPTION:Idén Szentendre ad otthont a Zöld Civil Országos Találkozónak\, ahol ismét összehozzák a környezetvédelem iránt elkötelezett civil szervezeteket\, szakembereket és érdeklődőket. A rendezvény célja\, hogy erősítsék a szakmai és közösségi hálózatokat\, elősegítsék a tapasztalatcserét\, és közösen dolgozzanak a fenntartható jövőért.
URL:https://fataj.hu/event/zold-civil-ot-2026/
LOCATION:Szentendre
CATEGORIES:díjátadó,előadás,kiállítás,Konferencia,tematikus nap
ATTACH;FMTTYPE=image/jpeg:https://fataj.hu/wp-content/uploads/2026/01/zoldcivil26.jpg
END:VEVENT
BEGIN:VEVENT
DTSTART;TZID=Europe/Paris:20260529T080000
DTEND;TZID=Europe/Paris:20260529T170000
DTSTAMP:20260424T060208
CREATED:20260305T133620Z
LAST-MODIFIED:20260305T133620Z
UID:90349-1780041600-1780074000@fataj.hu
SUMMARY:Harveszter használata a gyakorlatban - JESZ VKK
DESCRIPTION:Egész napos\, térítésmentes erdőgazdálkodói bemutató üzemi program Ásotthalmon a harveszter gyakorlati használatáról.\nA PROGRAMRÓL:A harveszter kezelője önállóan végzi el a fakitermelés munkaműveleteit\, közben kialakítja a fakitermelés térbeli rendjét\, biztosítja a közelítést végző gépkezelő hatékony munkáját is. Állománynevelési ismeretekkel rendelkezik. Betartja a munkavédelmi\, környezetvédelmi és tűzbiztonsági előírásokat. Elkötelezett a természetvédelmi szabályok betartásában. Figyelembe veszi a munkaszervezetben dolgozó munkatársak elvárásait\, saját munkájával elősegíti társai eredményes munkavégzését. Folyamatosan képezi magát\, nyitott a munkáját érintő újdonságokra. Kellő gyakorlati tapasztalattal felvértezve önálló vállalkozást alapít és működtet. Tevékenységét a munkaerőpiacon eredményesen menedzseli.\nHarveszter szimulátor bemutatása\,Harveszter bemutatása\,Harveszterrel történő fakitermelések bemutatása\,Harveszter alkalmazásának lehetősége a nevelővágásokban.
URL:https://fataj.hu/event/harveszter-hasznalata-a-gyakorlatban-jesz-vkk/
LOCATION:Ásotthalom
ATTACH;FMTTYPE=image/png:https://fataj.hu/wp-content/uploads/2025/03/JESZVKKpontszerzo.png
END:VEVENT
BEGIN:VEVENT
DTSTART;VALUE=DATE:20260530
DTEND;VALUE=DATE:20260531
DTSTAMP:20260424T060208
CREATED:20251219T171054Z
LAST-MODIFIED:20251219T171054Z
UID:87495-1780099200-1780185599@fataj.hu
SUMMARY:10. Nyárköszöntő Futóverseny
DESCRIPTION:2026. május 30-án háromféle táv\, ajándékok\, vadpörkölt és a somogyi erdő kincsei várják ismét a futókat és az érdeklődőket a kilencedik erdei futóversenyen a zselici Ropolyi pihenőhelyen (Bőszénfa)\, Kaposvár közelében.
URL:https://fataj.hu/event/10-nyarkoszonto-futoverseny/
LOCATION:Ropoly\, Ropoly
CATEGORIES:verseny
ATTACH;FMTTYPE=image/jpeg:https://fataj.hu/wp-content/uploads/2021/07/sefag.jpg
END:VEVENT
END:VCALENDAR