BEGIN:VCALENDAR
VERSION:2.0
PRODID:-//FATÁJ - ECPv6.15.16//NONSGML v1.0//EN
CALSCALE:GREGORIAN
METHOD:PUBLISH
X-ORIGINAL-URL:https://fataj.hu
X-WR-CALDESC:Események FATÁJ
REFRESH-INTERVAL;VALUE=DURATION:PT1H
X-Robots-Tag:noindex
X-PUBLISHED-TTL:PT1H
BEGIN:VTIMEZONE
TZID:Europe/Paris
BEGIN:DAYLIGHT
TZOFFSETFROM:+0100
TZOFFSETTO:+0200
TZNAME:CEST
DTSTART:20250330T010000
END:DAYLIGHT
BEGIN:STANDARD
TZOFFSETFROM:+0200
TZOFFSETTO:+0100
TZNAME:CET
DTSTART:20251026T010000
END:STANDARD
BEGIN:DAYLIGHT
TZOFFSETFROM:+0100
TZOFFSETTO:+0200
TZNAME:CEST
DTSTART:20260329T010000
END:DAYLIGHT
BEGIN:STANDARD
TZOFFSETFROM:+0200
TZOFFSETTO:+0100
TZNAME:CET
DTSTART:20261025T010000
END:STANDARD
BEGIN:DAYLIGHT
TZOFFSETFROM:+0100
TZOFFSETTO:+0200
TZNAME:CEST
DTSTART:20270328T010000
END:DAYLIGHT
BEGIN:STANDARD
TZOFFSETFROM:+0200
TZOFFSETTO:+0100
TZNAME:CET
DTSTART:20271031T010000
END:STANDARD
END:VTIMEZONE
BEGIN:VEVENT
DTSTART;TZID=Europe/Paris:20260618T080000
DTEND;TZID=Europe/Paris:20260619T170000
DTSTAMP:20260424T060302
CREATED:20251127T111810Z
LAST-MODIFIED:20251127T111810Z
UID:86498-1781769600-1781888400@fataj.hu
SUMMARY:XII. Lombosfa Konferencia Sopron
DESCRIPTION:A Soproni Egyetem\, az ausztriai WOOD K Plus kutatóintézettel\, a göttingeni Georg August Egyetemmel és a Faipari Tudományos Egyesülettel (FATE) együttműködve 2026. június 18-19-én rendezi meg Sopronban a XII. Lombosfa Konferenciát (12th Hardwood Conference).
URL:https://fataj.hu/event/xii-lombosfa-konferencia-sopron/
LOCATION:Ligneum (Soproni Egyetem)
CATEGORIES:előadás,Konferencia,tematikus nap
ATTACH;FMTTYPE=image/jpeg:https://fataj.hu/wp-content/uploads/2025/11/HardwoodConference2026.jpg
END:VEVENT
BEGIN:VEVENT
DTSTART;TZID=Europe/Paris:20260723T080000
DTEND;TZID=Europe/Paris:20260724T170000
DTSTAMP:20260424T060302
CREATED:20260311T084644Z
LAST-MODIFIED:20260311T084644Z
UID:90587-1784793600-1784912400@fataj.hu
SUMMARY:OEE Vándorgyűlés
DESCRIPTION:2026. július 23-24 között Nyíregyházán rendezzük meg az immár . Vándorgyűlésünket\, mely a Kárpát-medencei magyar erdész szakemberek legfontosabb és legnagyobb szabású egyesületi\, szakmai találkozója\, közösségi rendezvénye.\n\n\nA napos eseményen – a kölcsönös szakmai partnerség\, és a nemzetközi együttműködések\, kapcsolatok erősítésének szellemében – számos európai ország erdészeti ágazata is képviselteti magát. Az idei Vándorgyűlésünk házigazdája a Nyírerdő Zrt. állami erdészeti társaság.
URL:https://fataj.hu/event/oee-vandorgyules-2/
LOCATION:Nyíregyháza
CATEGORIES:gépbemutató,kiállítás,Konferencia,közgyűlés,tematikus nap
ATTACH;FMTTYPE=image/jpeg:https://fataj.hu/wp-content/uploads/2022/02/oee2019.jpg
END:VEVENT
BEGIN:VEVENT
DTSTART;TZID=Europe/Paris:20260801T080000
DTEND;TZID=Europe/Paris:20260805T170000
DTSTAMP:20260424T060302
CREATED:20251215T153823Z
LAST-MODIFIED:20251215T153823Z
UID:87265-1785571200-1785949200@fataj.hu
SUMMARY:Erdészeti Tájfutó Európa-bajnokság - 2026
DESCRIPTION:Az EFOL Nemzetközi Bizottsága\, valamint az Országos Erdészeti Egyesület felkérése által Társaságunkat érte a megtiszteltetés\, hogy 2026. augusztus 1-5. között megrendezheti a 32. EFOL (European Foresters’ Orienteering Championships)\, azaz Erdészeti Tájfutó Európa-bajnokságot Veszprémben és a Társaságunk által szakkezelt területeken.
URL:https://fataj.hu/event/erdeszeti-tajfuto-europa-bajnoksag-2026/
LOCATION:Veszprém
CATEGORIES:verseny
ATTACH;FMTTYPE=image/png:https://fataj.hu/wp-content/uploads/2022/10/Efol_logo.png
END:VEVENT
BEGIN:VEVENT
DTSTART;TZID=Europe/Paris:20260909T110000
DTEND;TZID=Europe/Paris:20260911T180000
DTSTAMP:20260424T060302
CREATED:20260218T095006Z
LAST-MODIFIED:20260218T095006Z
UID:89605-1788951600-1789149600@fataj.hu
SUMMARY:Pro Silva Europe éves találkozója
DESCRIPTION:Gyakorlat és tudomány partnerségben: Magyarország folyamatos fedettségű erdőgazdálkodása a biológiai sokféleség érdekében”\nBevezetés\n2026-ban a Pro Silva Europe éves találkozóját Magyarországon\, az ország egyik legfontosabb turisztikai régiójában\, Visegrádon\, a Duna-kanyar történelmi városában tartja. A rendezvény helyszíne a Hotel Silvanus\, amely kiváló panorámájáról híres.\nA találkozó során a résztvevők megismerkedhetnek Magyarország erdeivel és a Pro Silva elveinek gyakorlati megvalósításával a magyar erdőgazdálkodásban. Az esemény egyik legfontosabb üzenete a gyakorlat és a kutatás közötti szoros\, folyamatos kapcsolat fontossága.\nA magyar erdőgazdálkodásnak csak szerény hagyományai vannak a folyamatos fedettségű erdőgazdálkodás terén. Bár korábban létezett néhány kis léptékű\, hagyományos szelektív erdő\, ez a gyakorlat a második világháború után nagyrészt háttérbe szorult. A 2000-es évek elejéig a rotációs erdőgazdálkodás dominált a gyakorlatban\, az oktatásban és a kutatásban. A 2024-es hivatalos adatok szerint az ország területének körülbelül 10%-án alkalmazzák a rotációs erdőgazdálkodáson kívüli erdőgazdálkodási rendszereket\, és csak a magyarországi erdőterületek körülbelül 2%-án alkalmazzák kifejezetten a folyamatos erdőborítást biztosító gazdálkodást.\nA terepi program a Pro Silva Hungaria 1999-es alapítása óta eltelt 27 év legfontosabb eredményeit mutatja be.
URL:https://fataj.hu/event/pro-silva-europe-eves-talalkozoja/
LOCATION:Visegrád
CATEGORIES:előadás,kiállítás,Konferencia,tematikus nap,túra
ATTACH;FMTTYPE=image/png:https://fataj.hu/wp-content/uploads/2022/11/ProSilva-logo.png
END:VEVENT
END:VCALENDAR